BEGIN:VCALENDAR
VERSION:2.0
PRODID:-//www.bremgarten-be.ch//NONSGML kigkonsult.se iCalcreator 2.22//
CALSCALE:GREGORIAN
METHOD:PUBLISH
X-WR-TIMEZONE','EUROPE/BERLIN:
BEGIN:VEVENT
UID:20260425T144941CEST-3404vfkmBs@www.bremgarten-be.ch
DTSTAMP:20260425T124941Z
DESCRIPTION:Klicken Sie auf den folgenden Link\, um weitere Informationen z
 ur Veranstaltung zu erhalten:\nhttp://www.bremgarten-be.ch/de/veranstaltun
 gen/detail/detail.php?i=284
DTSTART:20260429T180000
DTEND:20260429T200000
LOCATION:Sportplatz
SUMMARY:Pétanque - Spielabende
END:VEVENT
END:VCALENDAR
